BEGIN:VCALENDAR
VERSION:2.0
PRODID:-//Proyecto Inmigrante ICS, Inc. - ECPv6.13.2.1//NONSGML v1.0//EN
CALSCALE:GREGORIAN
METHOD:PUBLISH
X-WR-CALNAME:Proyecto Inmigrante ICS, Inc.
X-ORIGINAL-URL:https://proyectoinmigrante.org/?lang=es
X-WR-CALDESC:Eventos para Proyecto Inmigrante ICS, Inc.
REFRESH-INTERVAL;VALUE=DURATION:PT1H
X-Robots-Tag:noindex
X-PUBLISHED-TTL:PT1H
BEGIN:VTIMEZONE
TZID:America/Chicago
BEGIN:DAYLIGHT
TZOFFSETFROM:-0600
TZOFFSETTO:-0500
TZNAME:CDT
DTSTART:20230312T080000
END:DAYLIGHT
BEGIN:STANDARD
TZOFFSETFROM:-0500
TZOFFSETTO:-0600
TZNAME:CST
DTSTART:20231105T070000
END:STANDARD
BEGIN:DAYLIGHT
TZOFFSETFROM:-0600
TZOFFSETTO:-0500
TZNAME:CDT
DTSTART:20240310T080000
END:DAYLIGHT
BEGIN:STANDARD
TZOFFSETFROM:-0500
TZOFFSETTO:-0600
TZNAME:CST
DTSTART:20241103T070000
END:STANDARD
BEGIN:DAYLIGHT
TZOFFSETFROM:-0600
TZOFFSETTO:-0500
TZNAME:CDT
DTSTART:20250309T080000
END:DAYLIGHT
BEGIN:STANDARD
TZOFFSETFROM:-0500
TZOFFSETTO:-0600
TZNAME:CST
DTSTART:20251102T070000
END:STANDARD
END:VTIMEZONE
BEGIN:VEVENT
DTSTART;TZID=America/Chicago:20250220T100000
DTEND;TZID=America/Chicago:20250220T100000
DTSTAMP:20260423T072504
CREATED:20250218T163954Z
LAST-MODIFIED:20250218T165037Z
UID:8392-1740045600-1740045600@proyectoinmigrante.org
SUMMARY:¡FERIA DE RECURSOS!
DESCRIPTION:Asesoría legal para conocer sus opiniones ante las nuevas leyes migratorias\nConsejería familiar para fortalecer tu bienestar emocional y relacional\nRecursos para situaciones vulnerables\, porque tu seguridad es nuestra prioridad\n\nY MUCHA MÁS INFORMACIÓN DE APOYO PARA NUESTRA COMUNIDAD \nJueves 20 de febrero\, 10:00 am 11425 MARSH LANE\, DALLAS TX 75229
URL:https://proyectoinmigrante.org/event/feria-de-recursos/?lang=es
LOCATION:Community Center\, MARSH LANE\, DALLAS\, TX\, 75229\, United States
END:VEVENT
BEGIN:VEVENT
DTSTART;TZID=America/Chicago:20240914T120000
DTEND;TZID=America/Chicago:20240914T140000
DTSTAMP:20260423T072504
CREATED:20240910T192340Z
LAST-MODIFIED:20240910T192340Z
UID:7561-1726315200-1726322400@proyectoinmigrante.org
SUMMARY:CAPACITACION PARA VOLUNTARIOS
DESCRIPTION:  NUEVO SISTEMA a utilizar en los EVENTOS DE CIUDADANIA\, Capacitación Dia: Sábado 14 de Septiembre 2024 Horario: 12PM el Cupo Limitado Oficinas de Proyecto Inmigrante ICS\, Inc.
URL:https://proyectoinmigrante.org/event/capacitacion-para-voluntarios/?lang=es
CATEGORIES:Volunteering
ATTACH;FMTTYPE=image/png:https://proyectoinmigrante.org/wp-content/uploads/2024/09/Screenshot-2024-09-10-at-2.22.11 PM.png
END:VEVENT
BEGIN:VEVENT
DTSTART;TZID=America/Chicago:20240803T100000
DTEND;TZID=America/Chicago:20240803T120000
DTSTAMP:20260423T072504
CREATED:20240801T221223Z
LAST-MODIFIED:20240801T221223Z
UID:7420-1722679200-1722686400@proyectoinmigrante.org
SUMMARY:Foro Informativo Migratorio Agosto 3\, 2024
DESCRIPTION:
URL:https://proyectoinmigrante.org/event/foro-informativo-migratorio-aug-3-2024/?lang=es
CATEGORIES:Foro Migratorio
ATTACH;FMTTYPE=image/jpeg:https://proyectoinmigrante.org/wp-content/uploads/2024/08/IMG_2460.jpeg
END:VEVENT
BEGIN:VEVENT
DTSTART;TZID=America/Chicago:20240727T100000
DTEND;TZID=America/Chicago:20240727T120000
DTSTAMP:20260423T072504
CREATED:20240726T182438Z
LAST-MODIFIED:20240726T182438Z
UID:7306-1722074400-1722081600@proyectoinmigrante.org
SUMMARY:Foro Migratorio Sábado 27 Julio\, Fort Worth Texas
DESCRIPTION:
URL:https://proyectoinmigrante.org/event/foro-migratorio-sabado-27-julio-fort-worth-texas/?lang=es
CATEGORIES:Foro Migratorio
ATTACH;FMTTYPE=image/jpeg:https://proyectoinmigrante.org/wp-content/uploads/2024/07/foro27.jpg
END:VEVENT
BEGIN:VEVENT
DTSTART;TZID=America/Chicago:20240724T190000
DTEND;TZID=America/Chicago:20240724T200000
DTSTAMP:20260423T072504
CREATED:20240720T053408Z
LAST-MODIFIED:20240720T053408Z
UID:7258-1721847600-1721851200@proyectoinmigrante.org
SUMMARY:Foro Informativo de Inmigración
DESCRIPTION:
URL:https://proyectoinmigrante.org/event/foro-informativo-de-inmigracion-2/?lang=es
CATEGORIES:Foro Informativo SB4
ATTACH;FMTTYPE=image/jpeg:https://proyectoinmigrante.org/wp-content/uploads/2024/07/SB-4-CONS-FI-2407-V1-scaled.jpeg
END:VEVENT
BEGIN:VEVENT
DTSTART;TZID=America/Chicago:20240427T090000
DTEND;TZID=America/Chicago:20240427T120000
DTSTAMP:20260423T072504
CREATED:20240418T092514Z
LAST-MODIFIED:20240418T092855Z
UID:6894-1714208400-1714219200@proyectoinmigrante.org
SUMMARY:Registro para Voluntarios- Event: Clinica de Ciudadania - APR 27\, 2024
DESCRIPTION:REGISTRACION\n   \n \nREGISTRACION
URL:https://proyectoinmigrante.org/event/volunteer-registration-event-citizenship-clinic-apr-27-2024/?lang=es
LOCATION:Proyecto Inmigrante\, 832 S Carrier Pkwy\, Grand Prairie\, 75051\, United States
CATEGORIES:Volunteering
ATTACH;FMTTYPE=image/jpeg:https://proyectoinmigrante.org/wp-content/uploads/2024/04/WSM-01-ESP.jpeg
END:VEVENT
BEGIN:VEVENT
DTSTART;TZID=America/Chicago:20240427T090000
DTEND;TZID=America/Chicago:20240427T120000
DTSTAMP:20260423T072504
CREATED:20240406T133959Z
LAST-MODIFIED:20240406T133959Z
UID:6656-1714208400-1714219200@proyectoinmigrante.org
SUMMARY:Cliníca de Ciudadanía - Abril 27\, 2024
DESCRIPTION:
URL:https://proyectoinmigrante.org/event/6641/?lang=es
LOCATION:Proyecto Inmigrante\, 832 S Carrier Pkwy\, Grand Prairie\, 75051\, United States
CATEGORIES:Clínica de Ciudadanía
ATTACH;FMTTYPE=image/jpeg:https://proyectoinmigrante.org/wp-content/uploads/2024/04/WSM-01-ENG.jpeg
END:VEVENT
BEGIN:VEVENT
DTSTART;TZID=America/Chicago:20240413T100000
DTEND;TZID=America/Chicago:20240413T120000
DTSTAMP:20260423T072504
CREATED:20240407T233353Z
LAST-MODIFIED:20240407T233353Z
UID:6697-1713002400-1713009600@proyectoinmigrante.org
SUMMARY:Foro Informativo de Inmigración
DESCRIPTION:
URL:https://proyectoinmigrante.org/event/foro-informativo-de-inmigracion/?lang=es
CATEGORIES:Foro Informativo SB4
ATTACH;FMTTYPE=image/jpeg:https://proyectoinmigrante.org/wp-content/uploads/2024/04/SI-01-ENG-JP.jpeg
END:VEVENT
BEGIN:VEVENT
DTSTART;TZID=America/Chicago:20240323T090000
DTEND;TZID=America/Chicago:20240323T120000
DTSTAMP:20260423T072504
CREATED:20240318T194831Z
LAST-MODIFIED:20240318T210948Z
UID:6363-1711184400-1711195200@proyectoinmigrante.org
SUMMARY:Feria de Ciudadanía Sábado 23 de Marzo de 2024
DESCRIPTION:Feria de Ciudadanía Sábado 23 de Marzo de 2024 \nLugar: Oficinas Centrales de Proyecto Inmigrante\n832 S Carrier Pkwy. Grand Prairie\, TX 75051 \nHora: 9:00am – 12:00pm \n  \n 
URL:https://proyectoinmigrante.org/event/feria-de-ciudadania-sabado-23-de-marzo-de-2024/?lang=es
LOCATION:Proyecto Inmigrante\, 832 S Carrier Pkwy\, Grand Prairie\, 75051\, United States
CATEGORIES:Clínica de Ciudadanía,Volunteering
ATTACH;FMTTYPE=image/png:https://proyectoinmigrante.org/wp-content/uploads/2024/03/WSM-02-ESP-01.png
END:VEVENT
BEGIN:VEVENT
DTSTART;TZID=America/Chicago:20240311T190000
DTEND;TZID=America/Chicago:20240311T200000
DTSTAMP:20260423T072504
CREATED:20240309T113149Z
LAST-MODIFIED:20240309T113149Z
UID:6340-1710183600-1710187200@proyectoinmigrante.org
SUMMARY:ANÁLISIS DE LA LEY MIGRATORIA EN TEXAS:
DESCRIPTION:ANÁLISIS DE LA LEY MIGRATORIA EN TEXAS: \nLa nueva crisis humanitaria
URL:https://proyectoinmigrante.org/event/analisis-de-la-ley-migratoria-en-texas/?lang=es
CATEGORIES:Evento
ATTACH;FMTTYPE=image/png:https://proyectoinmigrante.org/wp-content/uploads/2024/03/eveti92129.png
END:VEVENT
BEGIN:VEVENT
DTSTART;TZID=America/Chicago:20240303T160000
DTEND;TZID=America/Chicago:20240303T180000
DTSTAMP:20260423T072504
CREATED:20240228T004712Z
LAST-MODIFIED:20240229T180034Z
UID:6212-1709481600-1709488800@proyectoinmigrante.org
SUMMARY:Foro Informativo SB 4 Legislación Migratoria de Texas - Iglesia Bautista Kekchi
DESCRIPTION:Día Evento: Domingo 3 Marzo\, 2024\nHora: 4:00 pm\nLugar: Iglesia Bautista Kekchi\nDirección: 3353 W Northwest HWY Dallas\, TX 75220\n  \n \n\n 
URL:https://proyectoinmigrante.org/event/iglesia-bautista-kekchi/?lang=es
CATEGORIES:Foro Informativo SB4
ATTACH;FMTTYPE=image/png:https://proyectoinmigrante.org/wp-content/uploads/2024/02/Screenshot-2024-02-28-at-4.32.01 PM.png
END:VEVENT
BEGIN:VEVENT
DTSTART;TZID=America/Chicago:20240302T100000
DTEND;TZID=America/Chicago:20240302T120000
DTSTAMP:20260423T072504
CREATED:20240216T163352Z
LAST-MODIFIED:20240216T165127Z
UID:6043-1709373600-1709380800@proyectoinmigrante.org
SUMMARY:Foro Informativo SB 4 Legislación Migratoria de Texas - Iglesia Templo Senda de Luz
DESCRIPTION:Día Evento: Sábado\, Marzo 2\,  2024\nHora: 10:00 AM\nLugar: Templo Senda de Luz\nDirección: 99012 US HWY 79\, Jacksonville\, TX 75766\n  \n \n\n 
URL:https://proyectoinmigrante.org/event/foro-informativo-sb-4-legislacion-migratoria-de-texas-iglesia-faro-de-luz/?lang=es
CATEGORIES:Foro Informativo SB4
ATTACH;FMTTYPE=image/jpeg:https://proyectoinmigrante.org/wp-content/uploads/2024/02/Jacsonville03022024.jpg
END:VEVENT
BEGIN:VEVENT
DTSTART;TZID=America/Chicago:20240228T190000
DTEND;TZID=America/Chicago:20240228T200000
DTSTAMP:20260423T072504
CREATED:20240115T001812Z
LAST-MODIFIED:20240130T170023Z
UID:5760-1709146800-1709150400@proyectoinmigrante.org
SUMMARY:Foro Informativo SB 4 Legislación Migratoria de Texas - Iglesia Faro de Luz
DESCRIPTION:Día: Miércoles 28\, Febrero 2024\nHora: 7:00 PM\nLugar: Iglesia Faro de Luz\nDirección: 11215 Ferguson Rd\, Dallas Texas 75228\n  \n \n\n 
URL:https://proyectoinmigrante.org/event/foro-informativo-sb-4-legislacion-migratoria-de-texas-iglesia-faro-luz/?lang=es
CATEGORIES:Foro Informativo SB4
ATTACH;FMTTYPE=image/png:https://proyectoinmigrante.org/wp-content/uploads/2024/01/Screenshot-2024-01-30-at-10.59.05 AM.png
END:VEVENT
BEGIN:VEVENT
DTSTART;TZID=America/Chicago:20240224T090000
DTEND;TZID=America/Chicago:20240224T120000
DTSTAMP:20260423T072504
CREATED:20240216T233611Z
LAST-MODIFIED:20240216T233927Z
UID:6057-1708765200-1708776000@proyectoinmigrante.org
SUMMARY:Clínica de Ciudadanía - Sábado 24 de Febrero 2024 - Oficina Central de Proyecto Inmigrante ICS\, Inc.
DESCRIPTION:
URL:https://proyectoinmigrante.org/event/clinica-de-ciudadania-sabado-24-de-febrero-2024-oficinas-centrales-de-proyecto-inmigrante/?lang=es
LOCATION:Proyecto Inmigrante\, 832 S Carrier Pkwy\, Grand Prairie\, 75051\, United States
CATEGORIES:Clínica de Ciudadanía,Evento,Volunteering
ATTACH;FMTTYPE=image/jpeg:https://proyectoinmigrante.org/wp-content/uploads/2024/02/WSM-01.1-ENG-scaled.jpeg
END:VEVENT
BEGIN:VEVENT
DTSTART;TZID=America/Chicago:20240221T190000
DTEND;TZID=America/Chicago:20240221T200000
DTSTAMP:20260423T072504
CREATED:20231208T164030Z
LAST-MODIFIED:20240220T165502Z
UID:5383-1708542000-1708545600@proyectoinmigrante.org
SUMMARY:Foro Informativo SB 4 Legislación Migratoria de Texas - Arlington - Iglesia Generación que Conquista
DESCRIPTION:Día: Miércoles 21 Febrero 2024 Hora: 7:00 PM\nLugar: Iglesia Generación que Conquista\nDirección: 2300 E. Park Row Dr. Arlington Texas 76010\n \n  \n\n 
URL:https://proyectoinmigrante.org/event/foro-informativo-sb-4-legislacion-migratoria-de-texas-arlington-iglesia-generacion-que-conquista/?lang=es
CATEGORIES:Foro Informativo SB4
ATTACH;FMTTYPE=image/jpeg:https://proyectoinmigrante.org/wp-content/uploads/2023/12/PHOTO-2024-02-13-16-39-42.jpg
END:VEVENT
BEGIN:VEVENT
DTSTART;TZID=America/Chicago:20240217T110000
DTEND;TZID=America/Chicago:20240217T120000
DTSTAMP:20260423T072504
CREATED:20231208T164839Z
LAST-MODIFIED:20240130T165854Z
UID:5386-1708167600-1708171200@proyectoinmigrante.org
SUMMARY:Foro Informativo SB 4 Legislación Migratoria de Texas - Mesquite - True Life Church
DESCRIPTION:Día: Sabado 17\, Feb 2024\nHora: 11:00 AM\nLugar: True Life Church\nDirección: 820 Pioneer Rd\, Mesquite\, TX 75149\n  \n \n\n 
URL:https://proyectoinmigrante.org/event/foro-informativo-sb-4-legislacion-migratoria-de-texas-mesquite-true-life-church/?lang=es
CATEGORIES:Foro Informativo SB4
ATTACH;FMTTYPE=image/png:https://proyectoinmigrante.org/wp-content/uploads/2023/12/Screenshot-2024-01-30-at-10.57.12 AM.png
END:VEVENT
BEGIN:VEVENT
DTSTART;TZID=America/Chicago:20240209T170000
DTEND;TZID=America/Chicago:20240209T190000
DTSTAMP:20260423T072504
CREATED:20231208T173051Z
LAST-MODIFIED:20240131T204019Z
UID:5399-1707498000-1707505200@proyectoinmigrante.org
SUMMARY:Foro Informativo SB 4 Legislación Migratoria de Texas - Cleburne - Iglesia La Fuente
DESCRIPTION:Date: Friday February 9\, 2024\nTime: 5:00pm\nLocalidad: Iglesia La Fuente\nDirección: 1315 Grandview Hwy Cleburne\, Texas\, 76031\n\n\n  \n  \n\n 
URL:https://proyectoinmigrante.org/event/foro-informativo-sb-4-legislacion-migratoria-de-texas-cleburne-iglesia-la-fuente/?lang=es
CATEGORIES:Foro Informativo SB4
ATTACH;FMTTYPE=image/png:https://proyectoinmigrante.org/wp-content/uploads/2023/12/Screenshot-2024-01-30-at-10.56.19 AM.png
END:VEVENT
BEGIN:VEVENT
DTSTART;TZID=America/Chicago:20240209T100000
DTEND;TZID=America/Chicago:20240209T120000
DTSTAMP:20260423T072504
CREATED:20240128T061956Z
LAST-MODIFIED:20240128T061956Z
UID:5855-1707472800-1707480000@proyectoinmigrante.org
SUMMARY:Foro Informativo SB 4 Legislación Migratoria de Texas - Consulado General de El Salvador en Dallas Texas
DESCRIPTION:Date: Friday February 9\, 2024\nTime: 10:00 A.M.\nLocation: Consulado General de El Salvador en Dallas\nAddress: 7619 North Stemmos FWY \, Dallas\, Texas\, 76247\nSuite · 400\n \n  \n\n 
URL:https://proyectoinmigrante.org/event/foro-informativo-sb-4-legislacion-migratoria-de-texas-consulado-general-de-el-salvador-en-dallas-texas/?lang=es
CATEGORIES:Foro Informativo SB4
ATTACH;FMTTYPE=image/png:https://proyectoinmigrante.org/wp-content/uploads/2024/01/Screenshot-2024-01-28-at-12.16.57 AM.png
END:VEVENT
BEGIN:VEVENT
DTSTART;TZID=America/Chicago:20240204T110000
DTEND;TZID=America/Chicago:20240204T120000
DTSTAMP:20260423T072504
CREATED:20231208T171822Z
LAST-MODIFIED:20240130T165417Z
UID:5396-1707044400-1707048000@proyectoinmigrante.org
SUMMARY:Foro Informativo SB 4 Legislación Migratoria de Texas - Ennis- Templo de Poder
DESCRIPTION:Día: Domingo 04\, Febrero 2024\nHora: 11:00 AM\nLugar: Templo de Poder\nDirección: 209 Avenue A Ennis\, Texas 75119\n  \n \n\n 
URL:https://proyectoinmigrante.org/event/foro-informativo-sb-4-legislacion-migratoria-de-texas-ennis-templo-de-poder/?lang=es
CATEGORIES:Foro Informativo SB4
ATTACH;FMTTYPE=image/png:https://proyectoinmigrante.org/wp-content/uploads/2023/12/Screenshot-2024-01-30-at-10.52.45 AM.png
END:VEVENT
BEGIN:VEVENT
DTSTART;TZID=America/Chicago:20240131T190000
DTEND;TZID=America/Chicago:20240131T200000
DTSTAMP:20260423T072504
CREATED:20240115T000233Z
LAST-MODIFIED:20240128T055310Z
UID:5735-1706727600-1706731200@proyectoinmigrante.org
SUMMARY:Foro Informativo SB 4 Legislación Migratoria de Texas - Dallas -Iglesia Nueva Esperanza Viva
DESCRIPTION:Día: Miércoles 31\, ENERO 2024\nHora: 7:OO PM\nLugar: Iglesia Nueva Esperanza Viva\nDirección: 11103  Dennis Rd\, Dallas Texas 75229\n  \n \n\n 
URL:https://proyectoinmigrante.org/event/foro-informativo-sb-4-legislacion-migratoria-de-texas-dallas-nueva-esperanza-viva/?lang=es
CATEGORIES:Foro Informativo SB4
ATTACH;FMTTYPE=image/jpeg:https://proyectoinmigrante.org/wp-content/uploads/2024/01/nueva_esperanza_viva31enero.jpg
END:VEVENT
BEGIN:VEVENT
DTSTART;TZID=America/Chicago:20240127T180000
DTEND;TZID=America/Chicago:20240127T200000
DTSTAMP:20260423T072504
CREATED:20231208T163651Z
LAST-MODIFIED:20240114T235745Z
UID:5378-1706378400-1706385600@proyectoinmigrante.org
SUMMARY:Foro Informativo SB 4 Legislación Migratoria de Texas - Sherman - Iglesia Palabra de Fe
DESCRIPTION:Día: SÁBADO 27\, ENERO 2024\nHora: 6:OO PM\nLugar: Iglesia Palabra de Fe\nDirección: 601 N Harrison Ave\, Sherman\, TX 75090\n  \n \n\n 
URL:https://proyectoinmigrante.org/event/foro-informativo-sb-4-legislacion-migratoria-de-texas-sherman-iglesia-palabra-de-fe/?lang=es
CATEGORIES:Foro Informativo SB4
ATTACH;FMTTYPE=image/jpeg:https://proyectoinmigrante.org/wp-content/uploads/2023/12/iglesia_palabra_de_fe_27_enero.jpg
END:VEVENT
BEGIN:VEVENT
DTSTART;TZID=America/Chicago:20240126T200000
DTEND;TZID=America/Chicago:20240126T210000
DTSTAMP:20260423T072504
CREATED:20231208T165516Z
LAST-MODIFIED:20240114T235449Z
UID:5392-1706299200-1706302800@proyectoinmigrante.org
SUMMARY:Foro Informativo SB 4 Legislación Migratoria de Texas - Grand Praire - Iglesia Principe de Paz
DESCRIPTION:Día: Viernes 26\, Enero 2024\nHora: 8:00 PM\nLugar: Iglesia Príncipe de Paz\nDirección: 934 S Belt Line Rd\, Grand Prairie\, TX 75051\n  \n \n\n 
URL:https://proyectoinmigrante.org/event/foro-informativo-sb-4-legislacion-migratoria-de-texas-grand-praire-iglesia-principe-de-paz/?lang=es
CATEGORIES:Foro Informativo SB4
ATTACH;FMTTYPE=image/jpeg:https://proyectoinmigrante.org/wp-content/uploads/2023/12/iglesia_principe_paz_enero26.jpg
END:VEVENT
BEGIN:VEVENT
DTSTART;TZID=America/Chicago:20240126T110000
DTEND;TZID=America/Chicago:20240126T140000
DTSTAMP:20260423T072504
CREATED:20240115T003300Z
LAST-MODIFIED:20240122T221440Z
UID:5778-1706266800-1706277600@proyectoinmigrante.org
SUMMARY:Foro Informativo SB 4 Legislación Migratoria de Texas - Consulado de Guatemala en Dallas Texas
DESCRIPTION:Día: Viernes 26\, ENERO 2024\nHora: 11AM\n\nLugar: Consulado de Guatemala en Dallas Tx\nDirección: 4405 N Beltwood Parkway\, Farmers Branch TX 75224\n  \n \n\n 
URL:https://proyectoinmigrante.org/event/foro-informativo-sb-4-legislacion-migratoria-de-texas-consulado-de-guatemala-en-dallas-texas/?lang=es
CATEGORIES:Foro Informativo SB4
ATTACH;FMTTYPE=image/jpeg:https://proyectoinmigrante.org/wp-content/uploads/2024/01/consulado_guatemala_26.jpg
END:VEVENT
BEGIN:VEVENT
DTSTART;TZID=America/Chicago:20240120T180000
DTEND;TZID=America/Chicago:20240120T200000
DTSTAMP:20260423T072504
CREATED:20231208T152810Z
LAST-MODIFIED:20240114T234900Z
UID:5355-1705773600-1705780800@proyectoinmigrante.org
SUMMARY:Foro Informativo SB 4 Legislación Migratoria de Texas - Fort Worth Iglesia San Juan Apostol
DESCRIPTION:Día: SÁBADO 20\, ENERO 2024\nHora: 6:OO PM\nLugar:  Iglesia San Juan Apóstol Anglican Church\nDirección: 3725 S Adams St. Fort Worth\, TX 76110\n  \n \n\n 
URL:https://proyectoinmigrante.org/event/foro-informativo-sb-4-legislacion-migratoria-de-texas-fort-worth-iglesia-san-juan-apostol/?lang=es
CATEGORIES:Foro Informativo SB4
ATTACH;FMTTYPE=image/jpeg:https://proyectoinmigrante.org/wp-content/uploads/2023/12/sanjuanaposto20enero.jpg
END:VEVENT
BEGIN:VEVENT
DTSTART;TZID=America/Chicago:20240120T100000
DTEND;TZID=America/Chicago:20240120T120000
DTSTAMP:20260423T072504
CREATED:20231208T162705Z
LAST-MODIFIED:20240114T234336Z
UID:5372-1705744800-1705752000@proyectoinmigrante.org
SUMMARY:Foro Informativo SB 4 Legislación Migratoria de Texas - Fort Worth St. Demetrios Greek Orthodox Church
DESCRIPTION:Día: SÁBADO 20\, ENERO 2024\nHora: 10:00 AM\nLugar: Catedral de San Demetrio\nDirección: 2022 Ross Avenue\, Fort Worth\, TX 76164\n  \n \n\n 
URL:https://proyectoinmigrante.org/event/foro-informativo-sb-4-legislacion-migratoria-de-texas-fort-worth-st-demetrios-greek-orthodox-church/?lang=es
CATEGORIES:Foro Informativo SB4
ATTACH;FMTTYPE=image/png:https://proyectoinmigrante.org/wp-content/uploads/2023/12/Screenshot-2024-01-14-at-5.37.03 PM.png
END:VEVENT
BEGIN:VEVENT
DTSTART;TZID=America/Chicago:20240118T160000
DTEND;TZID=America/Chicago:20240118T170000
DTSTAMP:20260423T072504
CREATED:20240115T002514Z
LAST-MODIFIED:20240117T170530Z
UID:5769-1705593600-1705597200@proyectoinmigrante.org
SUMMARY:Foro Informativo SB 4 Legislación Migratoria de Texas - Consulado de Guatemala en Dallas Texas
DESCRIPTION:Día: JUEVES 18\, ENERO 2024\nHora: 4:00 PM\n\nLugar: Consulado de Guatemala en Dallas Tx\nDirección: 4405 N Beltwood Parkway\, Farmers Branch TX 75224\n  \n \n\n 
URL:https://proyectoinmigrante.org/event/foro-informativo-sb-4-consulado-guatemala-dallas-texas/?lang=es
CATEGORIES:Foro Informativo SB4
ATTACH;FMTTYPE=image/png:https://proyectoinmigrante.org/wp-content/uploads/2024/01/Screenshot-2024-01-17-at-11.00.10 AM.png
END:VEVENT
BEGIN:VEVENT
DTSTART;TZID=America/Chicago:20231118T090000
DTEND;TZID=America/Chicago:20231118T110000
DTSTAMP:20260423T072504
CREATED:20231112T222054Z
LAST-MODIFIED:20231112T222054Z
UID:5236-1700298000-1700305200@proyectoinmigrante.org
SUMMARY:Desayuno del Club de Voluntarios de Proyecto Inmigrante ICS Inc. Nov 18\, 2023
DESCRIPTION: 
URL:https://proyectoinmigrante.org/event/club-de-voluntarios/?lang=es
LOCATION:Proyecto Inmigrante\, 832 S Carrier Pkwy\, Grand Prairie\, 75051\, United States
CATEGORIES:Evento,Volunteering
ATTACH;FMTTYPE=image/jpeg:https://proyectoinmigrante.org/wp-content/uploads/2023/11/VolunteersEvent-Nov18SM01.jpg
END:VEVENT
BEGIN:VEVENT
DTSTART;TZID=America/Chicago:20231111T090000
DTEND;TZID=America/Chicago:20231111T150000
DTSTAMP:20260423T072504
CREATED:20231024T185401Z
LAST-MODIFIED:20231024T185401Z
UID:5223-1699693200-1699714800@proyectoinmigrante.org
SUMMARY:Clinica Ciudadania - Nov 11\, 2023
DESCRIPTION: 
URL:https://proyectoinmigrante.org/event/clinica-ciudadania-11-2023/?lang=es
LOCATION:Proyecto Inmigrante\, 832 S Carrier Pkwy\, Grand Prairie\, 75051\, United States
CATEGORIES:Clínica de Ciudadanía,Evento
ATTACH;FMTTYPE=image/jpeg:https://proyectoinmigrante.org/wp-content/uploads/2023/10/CC-ENG-1111-03-1-scaled.jpg
END:VEVENT
BEGIN:VEVENT
DTSTART;TZID=America/Chicago:20231109T190000
DTEND;TZID=America/Chicago:20231109T190000
DTSTAMP:20260423T072504
CREATED:20231024T184705Z
LAST-MODIFIED:20231024T184705Z
UID:5224-1699556400-1699556400@proyectoinmigrante.org
SUMMARY:Citizenship Workshop Volunteer Opportunity -ZOOM
DESCRIPTION:ZOOM Entrenamiento Online \n \n 
URL:https://proyectoinmigrante.org/event/oportunidad-entrenamiento-voluntarios/?lang=es
CATEGORIES:Evento,Volunteering
ATTACH;FMTTYPE=image/jpeg:https://proyectoinmigrante.org/wp-content/uploads/2023/10/Volunteers-1109-ENG-scaled.jpg
END:VEVENT
BEGIN:VEVENT
DTSTART;TZID=America/Chicago:20231028T100000
DTEND;TZID=America/Chicago:20231028T120000
DTSTAMP:20260423T072504
CREATED:20231026T220249Z
LAST-MODIFIED:20231026T221227Z
UID:5105-1698487200-1698494400@proyectoinmigrante.org
SUMMARY:Foro Informativo de Migracion - Iglesia Faro de Luz
DESCRIPTION:Lugar: \nIglesia Faro de Luz\n11215 Ferguson RD\, Dallas TX 75228
URL:https://proyectoinmigrante.org/event/foro-informativo-migracion-octubre-28/?lang=es
CATEGORIES:Evento
ATTACH;FMTTYPE=image/jpeg:https://proyectoinmigrante.org/wp-content/uploads/2023/10/SI-02.jpg
END:VEVENT
END:VCALENDAR